BEGIN:VCALENDAR
VERSION:2.0
PRODID:DPCALENDAR
CALSCALE:GREGORIAN
X-WR-TIMEZONE:UTC
BEGIN:VEVENT
DTSTART;TZID=Australia/Melbourne:20150501T070000
DTEND;TZID=Australia/Melbourne:20150501T080000
UID:23256B41-696B-4B4A-ACD3-F95D629199D3
SUMMARY:Purchase Event
DTSTAMP:20150427T213648Z
DESCRIPTION:
X-ALT-DESC;FMTTYPE=text/html:
X-ACCESS:1
X-HITS:30
X-URL:
X-COLOR:3366CC
END:VEVENT
END:VCALENDAR